BEGIN:VCALENDAR
VERSION:2.0
PRODID:-//Studio Flow Yoga - ECPv6.15.20//NONSGML v1.0//EN
CALSCALE:GREGORIAN
METHOD:PUBLISH
X-ORIGINAL-URL:https://www.ullasteen.com
X-WR-CALDESC:Begivenheder for Studio Flow Yoga
REFRESH-INTERVAL;VALUE=DURATION:PT1H
X-Robots-Tag:noindex
X-PUBLISHED-TTL:PT1H
BEGIN:VTIMEZONE
TZID:UTC
BEGIN:STANDARD
TZOFFSETFROM:+0000
TZOFFSETTO:+0000
TZNAME:UTC
DTSTART:20200101T000000
END:STANDARD
END:VTIMEZONE
BEGIN:VEVENT
DTSTART;TZID=UTC:20210806T080000
DTEND;TZID=UTC:20210808T170000
DTSTAMP:20260424T144838
CREATED:20201203T115756Z
LAST-MODIFIED:20210607T200141Z
UID:9583-1628236800-1628442000@www.ullasteen.com
SUMMARY:Luksus Yoga retreat Vejrø - 6.-8. august 2021
DESCRIPTION:LUKSUS YOGA RETREAT PÅ VEJRØ V/ ULLA STEEN\, STUDIO FLOW\n6.-8. august 2021\n\n\n\n\n\n\n\nOPLEV EN WEEKEND MED SAND FORKÆLELSE AF KROP OG SJÆL\nDer er ikke mange øer\, du kan kalde din egen. Hvor tiden går sin helt egen gang. Det giver ro til at finde helt ind i sig selv. Nu har du en enestående chance for at opleve dette på et eksklusivt yogaretreat på vores skønne Vejrø. \nDen gode fornemmelse kommer af at være et sted\, der er i balance og noget helt for sig selv. Her kan du slappe af og blive fyldt med overskud. \nDu bliver indlogeret i hyggelige og komfortable dobbeltværelser i enten Blæsenborg eller Karlekammeret. Retreatet byder på 9 timers yoga & meditation i skønne\, uhøjtidelige og autentiske omgivelser. Der er under opholdet fuld forplejning med god landlig og økologisk gastronomi tilberedt med sjæl og kærlighed til naturen. \nVi sejler jer til Vejrø i vores egen båd fra Kragenæs Havn fredag d. 6. august  kl. 10 og retur igen søndag d. 8. august  kl. 15 \nLUKSUS YOGARETREAT VEJRØ RESORT INDEHOLDER\n\n\n  Transport med vores båd t/r fra Kragenæs Havn \n\n\n  2 overnatninger i individuelt værelse i Blæsenborg eller Karlekammeret* \n\n\n  2 x morgenmad \n\n\n 2 x frokost inkl. én drikkevare \n\n\n 2 x 3 retters menu med temaet Fra mark til mund. Det vil være muligt at vælge vegetarisk. \n\n\n 9 timers yoga & meditation v/ Ulla Steen\, Studio Flow \n\n\n1 PERS. I INDIVIDUELT VÆRELSE KR. 5.450\,- PR. PERSON \n2 PERS. I DELT DOBBELTVÆRELSE KR. 4.700\,- PR. PERSON \n*Værelser fordeles ved først til mølle.  \nØnsker man at bo i delt dobbeltværelse skal man selv finde roommate. Dette kan vi ikke være behjælpelig med. \nPriser er ekskl. drikkevarer uden for yoga- salen og ved morgenmaden \nAl servering foregår i restaurant Skipperly\, hvis andet ikke er aftalt.
URL:https://www.ullasteen.com/kalender/luksus-yoga-retreat-vejroe-30-april-1-maj-2021/
LOCATION:Vejrø resort\, 4943 Torrig\, Danmark
ATTACH;FMTTYPE=image/jpeg:https://www.ullasteen.com/wp-content/uploads/72379353_1679226735547030_4710836506686652416_n.jpg
ORGANIZER;CN="Ulla Steen":MAILTO:yoga@ullasteen.dk
END:VEVENT
END:VCALENDAR